BEGIN:VCALENDAR
VERSION:2.0
PRODID:-//Squarespace Inc/Squarespace 6//v6//EN
BEGIN:VEVENT
UID:5c2ecc77758d46b47057973b@squarespace.com
DTSTAMP:20190104T030832Z
DTSTART:20190220T220000Z
DTEND:20190221T060000Z
SUMMARY:Thu 21 Feb - Sale
GEO:-38.11181;147.063937
LOCATION:Port of Sale - Carang Carang Room\, 70 Foster Street\, Sale\, VIC\
 , 3850\, Australia
END:VEVENT
END:VCALENDAR
