BEGIN:VCALENDAR
VERSION:2.0
PRODID:-//Squarespace Inc/Squarespace 6//v6//EN
BEGIN:VEVENT
UID:5bbaa422e4966b86344262ad@squarespace.com
DTSTAMP:20181019T085958Z
DTSTART:20181128T220000Z
DTEND:20181129T060000Z
SUMMARY:Thu 29 Nov Geelong
GEO:-38.151793;144.355341
LOCATION:Australia Post Hive\, 108 Gheringhap Street\, Geelong\, VIC\, 3220
 \, Australia
END:VEVENT
END:VCALENDAR
